BEGIN:VCALENDAR
VERSION:2.0
PRODID:-//INVENTURE - ECPv6.15.20//NONSGML v1.0//EN
CALSCALE:GREGORIAN
METHOD:PUBLISH
X-WR-CALNAME:INVENTURE
X-ORIGINAL-URL:https://theinventure.com
X-WR-CALDESC:Events for INVENTURE
REFRESH-INTERVAL;VALUE=DURATION:PT1H
X-Robots-Tag:noindex
X-PUBLISHED-TTL:PT1H
BEGIN:VTIMEZONE
TZID:Africa/Johannesburg
BEGIN:STANDARD
TZOFFSETFROM:+0200
TZOFFSETTO:+0200
TZNAME:SAST
DTSTART:20240101T000000
END:STANDARD
END:VTIMEZONE
BEGIN:VEVENT
DTSTART;VALUE=DATE:20251009
DTEND;VALUE=DATE:20251014
DTSTAMP:20260419T171031
CREATED:20241019T073100Z
LAST-MODIFIED:20250118T092615Z
UID:2203-1759968000-1760399999@theinventure.com
SUMMARY:Men's Inventure in the Karoo
DESCRIPTION:Join us for an immersive inventure experience in the heart of the Karoo. An offline expedition that offers a space of deepened reconnection to ourselves\, one another and the natural world through creative and sensory experiences. \nEvery inventure is a one-of-a-kind experience that’s based on who you are and how your journey in the Karoo organically unfolds. The two consistent threads that run through every experience is that you’ll have the opportunity to explore your inner landscape while rediscovering your place in the natural world. \nIf you are yearning for a moment of stillness\, space to breathe away from the relentless pace\, pressure and constant demand\, connect with us to learn more about how you could benefit. \n  \n\n  \n  \nReflections from past inventurers\n            \n                \n                                            \n                                    \n                \n                    "Each Inventure is completely different\, not just by design from Julie and Dawid\, but also because I am different each time. I am at a different place in my marriage\, my relationships with my children\, my family and my friends." \n                    John Fourie \n                    \n                                            Read more >\n                                    \n            \n                        \n                \n                                            \n                                    \n                \n                    "The speed at which our daily noise disappears was a surprise\, and the silence that was left is a truly unique place to be in and experience. This beautiful place allows us to disconnect from our daily lives and reconnect with ourselves\, recognising what is truly important at this time." \n                    John Fourie \n                    \n                                            Read more >\n                                    \n            \n                        \n                \n                                            \n                                    \n                \n                    "What is Inventure? That’s hard to define. It’s not a retreat. It’s not therapy. It’s not an escape. It’s a return to self\, to stillness\, to simplicity." \n                    Carl Coetzee \n                    \n                                            Read more >
URL:https://theinventure.com/event/mens-inventure-in-the-karoo/
LOCATION:The Karoo\, Graaff Reinet\, South Africa
CATEGORIES:Inventure experience
ATTACH;FMTTYPE=image/jpeg:https://theinventure.com/wp-content/uploads/2024/07/Inventure-May24_30-1.jpg
END:VEVENT
BEGIN:VEVENT
DTSTART;VALUE=DATE:20260507
DTEND;VALUE=DATE:20260512
DTSTAMP:20260419T171031
CREATED:20240708T104538Z
LAST-MODIFIED:20251104T162142Z
UID:1987-1778112000-1778543999@theinventure.com
SUMMARY:Mixed (men & women) Inventure in the Karoo
DESCRIPTION:Join us for an immersive inventure experience in the heart of the Karoo. An offline expedition that offers a space of deepened reconnection to ourselves\, one another and the natural world through creative and sensory experiences. \nEvery inventure is a one-of-a-kind experience that’s based on who you are and how your journey in the Karoo organically unfolds. The two consistent threads that run through every experience is that you’ll have the opportunity to explore your inner landscape while rediscovering your place in the natural world. \nIf you are yearning for a moment of stillness\, space to breathe away from the relentless pace\, pressure and constant demand\, connect with us to learn more about how you could benefit. \n  \n\n  \n  \nReflections from past inventurers\n            \n                \n                                            \n                                    \n                \n                    It is with great pride and joy to give reflections on my journey with Julie Robinson of Inventure. Working as Chief Executive Officer of a public institution comes with many […] \n                    Sandile Luthuli \n                                            Chief Executive Officer \n                    \n                                            Read more >\n                                    \n            \n                        \n                \n                                            \n                                    \n                \n                    We engaged Julie to support and facilitate the development of our Executive Leadership Team (ELT) as we navigated a critical stage in our journey. From the outset\, Julie played a […] \n                    Clive Jones \n                                            Chief Executive Officer: Tourvest Retail Services  \n                    \n                                            Read more >\n                                    \n            \n                        \n                \n                                            \n                                    \n                \n                    "My Inventure was truly an inward journey\, a process of self-discovery and introspection that invited me to explore my own thoughts\, emotions\, beliefs\, and identity. It was about turning inward\, rather than seeking answers outside of myself." \n                    Chris Crewdson \n                    \n                                            Read more >
URL:https://theinventure.com/event/mens-inventure/
LOCATION:The Karoo\, Graaff Reinet\, South Africa
CATEGORIES:Inventure experience
ATTACH;FMTTYPE=image/jpeg:https://theinventure.com/wp-content/uploads/2024/07/inventure-karoo.jpg
END:VEVENT
BEGIN:VEVENT
DTSTART;VALUE=DATE:20260514
DTEND;VALUE=DATE:20260519
DTSTAMP:20260419T171031
CREATED:20251104T162315Z
LAST-MODIFIED:20251104T162315Z
UID:3024-1778716800-1779148799@theinventure.com
SUMMARY:Mixed (men & women) Inventure in the Karoo
DESCRIPTION:Join us for an immersive inventure experience in the heart of the Karoo. An offline expedition that offers a space of deepened reconnection to ourselves\, one another and the natural world through creative and sensory experiences. \nEvery inventure is a one-of-a-kind experience that’s based on who you are and how your journey in the Karoo organically unfolds. The two consistent threads that run through every experience is that you’ll have the opportunity to explore your inner landscape while rediscovering your place in the natural world. \nIf you are yearning for a moment of stillness\, space to breathe away from the relentless pace\, pressure and constant demand\, connect with us to learn more about how you could benefit. \n  \n\n  \n  \nReflections from past inventurers\n            \n                \n                                            \n                                    \n                \n                    "The Karoo forms a warm\, timeless basin in which to rest and restore\, it felt like a comforting embrace\, its layers of evolution and survival creating a deeply nurturing space to heal." \n                    Amanda du Plessis \n                    \n                                            Read more >\n                                    \n            \n                        \n                \n                                            \n                                    \n                \n                    "Going into this Inventure\, I had no preconceived notions about what I thought I might “get out of it”. In fact\, I actively chose not to have any - I just wanted to go and experience whatever it was that Julie had planned. It turned out to be a beautifully crafted mix of movement\, breath\, creativity\, thoughtful words and quiet moments enhanced by being completely immersed in the pristine vast openness that is the Karoo" \n                    Tracy Frayne \n                    \n                                            Read more >\n                                    \n            \n                        \n                \n                                            \n                                    \n                \n                    "Slowing down provided me with the space to hear my heart... On my 'Inventure\,' I realised that the busyness of life wasn't fostering genuine connections\, and that being present is the essence of love." \n                    Tandi Kolbe  \n                    \n                                            Read more >
URL:https://theinventure.com/event/mixed-men-women-inventure-in-the-karoo/
LOCATION:The Karoo\, Graaff Reinet\, South Africa
CATEGORIES:Inventure experience
ATTACH;FMTTYPE=image/jpeg:https://theinventure.com/wp-content/uploads/2025/05/inventure-8602.jpg
END:VEVENT
BEGIN:VEVENT
DTSTART;VALUE=DATE:20260910
DTEND;VALUE=DATE:20260915
DTSTAMP:20260419T171031
CREATED:20251104T162721Z
LAST-MODIFIED:20251104T162746Z
UID:3027-1788998400-1789430399@theinventure.com
SUMMARY:Mixed (men & women) Inventure in the Karoo
DESCRIPTION:Join us for an immersive inventure experience in the heart of the Karoo. An offline expedition that offers a space of deepened reconnection to ourselves\, one another and the natural world through creative and sensory experiences. \nEvery inventure is a one-of-a-kind experience that’s based on who you are and how your journey in the Karoo organically unfolds. The two consistent threads that run through every experience is that you’ll have the opportunity to explore your inner landscape while rediscovering your place in the natural world. \nIf you are yearning for a moment of stillness\, space to breathe away from the relentless pace\, pressure and constant demand\, connect with us to learn more about how you could benefit. \n  \n\n  \n  \nReflections from past inventurers\n            \n                \n                                            \n                                    \n                \n                    "My Inventure was a 'come back to self\,' stripping away all influences to reveal who I am. It sparked a new perspective\, with daily reminders to go gently\, find joy in simple things\, and embrace life differently." \n                    Mary-Lyn Raath \n                    \n                                            Read more >\n                                    \n            \n                        \n                \n                                            \n                                    \n                \n                    "Jules was an incredible guide\, leading with wisdom and heartfelt attention. My Inventure was a catalyst for change\, showing me that the inner road is traversed by feeling\, not just thinking." \n                    Angelo Theofanous \n                    \n                                            Read more >\n                                    \n            \n                        \n                \n                                            \n                                    \n                \n                    When one of my key employees decided to move to Cape Town\, I was worried about the impact it would have on my business. At first\, I did not know […] \n                    Claire Waldeck  \n                                            Chief Executive Officer: Waldeck Attorneys and Notaries  \n                    \n                                            Read more >
URL:https://theinventure.com/event/inventure-sept-2026/
LOCATION:The Karoo\, Graaff Reinet\, South Africa
CATEGORIES:Inventure experience
ATTACH;FMTTYPE=image/jpeg:https://theinventure.com/wp-content/uploads/2025/11/inventure-karoo2.jpg
END:VEVENT
END:VCALENDAR